BEGIN:VCALENDAR
VERSION:2.0
METHOD:PUBLISH
BEGIN:VEVENT
DTSTART:20260425T180000Z
DTEND:20260426T000000Z
LOCATION:Venue
UID:20260421T131354Z@mysite.com
DTSTAMP:20260421T131354Z
SUMMARY:General Admission
DESCRIPTION:For details, visit https://tickets.sasksciencecentre.com/Selection.aspx?sch=202444
PRIORITY:5
CLASS:PUBLIC
END:VEVENT
END:VCALENDAR