BEGIN:VCALENDAR
VERSION:2.0
METHOD:PUBLISH
BEGIN:VEVENT
DTSTART:20260427T190000Z
DTEND:20260427T194500Z
LOCATION:Venue
UID:20260424T013934Z@mysite.com
DTSTAMP:20260424T013934Z
SUMMARY:Train Time
DESCRIPTION:For details, visit https://tickets.sasksciencecentre.com/Selection.aspx?sch=202969
PRIORITY:5
CLASS:PUBLIC
END:VEVENT
END:VCALENDAR