BEGIN:VCALENDAR
VERSION:2.0
METHOD:PUBLISH
BEGIN:VEVENT
DTSTART:20260429T190000Z
DTEND:20260429T194000Z
LOCATION:Venue
UID:20260424T012433Z@mysite.com
DTSTAMP:20260424T012433Z
SUMMARY:Superhuman Body 3D: World of Medical Marvels
DESCRIPTION:For details, visit https://tickets.sasksciencecentre.com/Selection.aspx?sch=202854
PRIORITY:5
CLASS:PUBLIC
END:VEVENT
END:VCALENDAR