BEGIN:VCALENDAR
VERSION:2.0
METHOD:PUBLISH
BEGIN:VEVENT
DTSTART:20260428T174500Z
DTEND:20260428T182500Z
LOCATION:Venue
UID:20260421T124236Z@mysite.com
DTSTAMP:20260421T124236Z
SUMMARY:Superhuman Body 3D: World of Medical Marvels
DESCRIPTION:For details, visit https://tickets.sasksciencecentre.com/Selection.aspx?sch=202925
PRIORITY:5
CLASS:PUBLIC
END:VEVENT
END:VCALENDAR