BEGIN:VCALENDAR
VERSION:2.0
METHOD:PUBLISH
BEGIN:VEVENT
DTSTART:20260425T190000Z
DTEND:20260425T194500Z
LOCATION:Venue
UID:20260421T123705Z@mysite.com
DTSTAMP:20260421T123705Z
SUMMARY:Train Time
DESCRIPTION:For details, visit https://tickets.sasksciencecentre.com/Selection.aspx?sch=202963
PRIORITY:5
CLASS:PUBLIC
END:VEVENT
END:VCALENDAR