BEGIN:VCALENDAR
VERSION:2.0
METHOD:PUBLISH
BEGIN:VEVENT
DTSTART:20260426T190000Z
DTEND:20260426T194500Z
LOCATION:Venue
UID:20260424T012433Z@mysite.com
DTSTAMP:20260424T012433Z
SUMMARY:Train Time
DESCRIPTION:For details, visit https://tickets.sasksciencecentre.com/Selection.aspx?sch=202966
PRIORITY:5
CLASS:PUBLIC
END:VEVENT
END:VCALENDAR