BEGIN:VCALENDAR
VERSION:2.0
METHOD:PUBLISH
BEGIN:VEVENT
DTSTART:20260426T160000Z
DTEND:20260426T164500Z
LOCATION:Venue
UID:20260424T013139Z@mysite.com
DTSTAMP:20260424T013139Z
SUMMARY:Lost Wolves of Yellowstone
DESCRIPTION:For details, visit https://tickets.sasksciencecentre.com/Selection.aspx?sch=203286
PRIORITY:5
CLASS:PUBLIC
END:VEVENT
END:VCALENDAR