BEGIN:VCALENDAR
VERSION:2.0
METHOD:PUBLISH
BEGIN:VEVENT
DTSTART:20260714T150000Z
DTEND:20260714T220000Z
LOCATION:Venue
UID:20260424T012617Z@mysite.com
DTSTAMP:20260424T012617Z
SUMMARY:Science Superstars - Ages 8-12 (Meadow Lake)
DESCRIPTION:For details, visit https://tickets.sasksciencecentre.com/Selection.aspx?sch=203295
PRIORITY:5
CLASS:PUBLIC
END:VEVENT
END:VCALENDAR