BEGIN:VCALENDAR
VERSION:2.0
METHOD:PUBLISH
BEGIN:VEVENT
DTSTART:20260811T150000Z
DTEND:20260811T220000Z
LOCATION:Venue
UID:20260424T013205Z@mysite.com
DTSTAMP:20260424T013205Z
SUMMARY:Science Superstars - Ages 8-12 (La Ronge)
DESCRIPTION:For details, visit https://tickets.sasksciencecentre.com/Selection.aspx?sch=203298
PRIORITY:5
CLASS:PUBLIC
END:VEVENT
END:VCALENDAR